BEGIN:VCALENDAR
VERSION:2.0
PRODID:-//Veranstaltungen - ECPv6.15.20//NONSGML v1.0//EN
CALSCALE:GREGORIAN
METHOD:PUBLISH
X-ORIGINAL-URL:https://kalender.klaerwerk-krefeld.org
X-WR-CALDESC:Veranstaltungen für Veranstaltungen
REFRESH-INTERVAL;VALUE=DURATION:PT1H
X-Robots-Tag:noindex
X-PUBLISHED-TTL:PT1H
BEGIN:VTIMEZONE
TZID:Europe/Berlin
BEGIN:DAYLIGHT
TZOFFSETFROM:+0100
TZOFFSETTO:+0200
TZNAME:CEST
DTSTART:20220327T010000
END:DAYLIGHT
BEGIN:STANDARD
TZOFFSETFROM:+0200
TZOFFSETTO:+0100
TZNAME:CET
DTSTART:20221030T010000
END:STANDARD
BEGIN:DAYLIGHT
TZOFFSETFROM:+0100
TZOFFSETTO:+0200
TZNAME:CEST
DTSTART:20230326T010000
END:DAYLIGHT
BEGIN:STANDARD
TZOFFSETFROM:+0200
TZOFFSETTO:+0100
TZNAME:CET
DTSTART:20231029T010000
END:STANDARD
BEGIN:DAYLIGHT
TZOFFSETFROM:+0100
TZOFFSETTO:+0200
TZNAME:CEST
DTSTART:20240331T010000
END:DAYLIGHT
BEGIN:STANDARD
TZOFFSETFROM:+0200
TZOFFSETTO:+0100
TZNAME:CET
DTSTART:20241027T010000
END:STANDARD
BEGIN:DAYLIGHT
TZOFFSETFROM:+0100
TZOFFSETTO:+0200
TZNAME:CEST
DTSTART:20250330T010000
END:DAYLIGHT
BEGIN:STANDARD
TZOFFSETFROM:+0200
TZOFFSETTO:+0100
TZNAME:CET
DTSTART:20251026T010000
END:STANDARD
BEGIN:DAYLIGHT
TZOFFSETFROM:+0100
TZOFFSETTO:+0200
TZNAME:CEST
DTSTART:20260329T010000
END:DAYLIGHT
BEGIN:STANDARD
TZOFFSETFROM:+0200
TZOFFSETTO:+0100
TZNAME:CET
DTSTART:20261025T010000
END:STANDARD
END:VTIMEZONE
BEGIN:VEVENT
DTSTART;TZID=Europe/Berlin:20250129T180000
DTEND;TZID=Europe/Berlin:20250129T193000
DTSTAMP:20260421T191008
CREATED:20240926T101334Z
LAST-MODIFIED:20240926T101338Z
UID:10000220-1738173600-1738179000@kalender.klaerwerk-krefeld.org
SUMMARY:Führung durch das historische Klärwerk
DESCRIPTION:Das Klärwerk Krefeld wurde 1909 eingeweiht. Es ist ein denkmalgeschütztes Jugendstilgebäude von besonderem Charme. Der Uerdinger Verein zum Erhalt des historischen Klärwerks Krefeld e.V. setzt sich dafür ein\, dass sowohl das denkmalgeschützte Gebäude wiederhergestellt wird\, als auch die Geschichte des Klärwerkes bewahrt wird. Die Führung durch das historische Gebäude geht auf die Geschichte der Abwasserreinigung\, das Hygieneverständnis im 19. Jhd. und die Baukultur der Stadt ein. Auch die aktuellen Herausforderungen im nachhaltigen Umgang mit der Ressource Wasser (Ziele der UN Agenda 2030) werden thematisiert.\nDie Veranstaltung ist kostenfrei\, Spenden an den Verein zum Erhalt des historischen Klärwerks Krefeld Uerdingen e.V. sind willkommen. \nBitte diese Führung kostenlos bei der VHS Krefeld reservieren unter: \nFührung reservieren bei der VHS Krefeld
URL:https://kalender.klaerwerk-krefeld.org/veranstaltung/fuehrung-durch-das-historische-klaerwerk-5/
LOCATION:Industriedenkmal historisches Klärwerk\, Rundweg 20-22\, Krefeld Uerdingen\, Nordrhein-Westfalen\, 47829\, Deutschland
CATEGORIES:Führungen durch das Klärwerk
ATTACH;FMTTYPE=image/jpeg:https://kalender.klaerwerk-krefeld.org/wp-content/uploads/fuehrungen-2048x1494-1-1.jpeg
END:VEVENT
BEGIN:VEVENT
DTSTART;TZID=Europe/Berlin:20241228T200000
DTEND;TZID=Europe/Berlin:20241229T020000
DTSTAMP:20260421T191008
CREATED:20241122T154805Z
LAST-MODIFIED:20241208T151238Z
UID:10000304-1735416000-1735437600@kalender.klaerwerk-krefeld.org
SUMMARY:Klär your head off. 3.0: Open your mind. Dance!
DESCRIPTION:Legendär\n\n\n\n\n\nist unsere Vorsylvesterparty Klär your head off im epischen historischen Klärwerk: wir schalten in der grandiosen Klärhalle die Woofer\, Nebelmaschine und Scheinwerfer ein…. \n\n\n\nAuflegen wird the Grandmaster Dj Heinz \n\n\n\nAuf die Ohren gibt es von ihm Rock\, Pop\, verziert mit den klassischen 80er/90er\, gespickt mit Reggae und Punk bis hin zu Afro-Pop und garantiert Schlagerfrei. \n\n\n\nAls Liveact wird Aidara auftreten\, the Master of Senegal-Vibes\,\n\n\n\nmit feinstem Djembe-Sound und Vocals\, die den Tanzboden erbeben lassen.  \n\n\n\nDie Lichtinszenierung werden die Klärmeister beisteuern.\n\n\n\nDas Industriedenkmal wird dieses mal zum Palast der Unterwelt…Vorverkauf 12\,50€ (siehe unten)Abendkasse: 15€ \n\n\n\nBedienungsanleitung \n\n\n\nfür den Besuch des Klärwerks… Anreise optimal: ohne Auto. Den Ticket QR-Code auf dem Handy oder als Papier mitbringen. EC- oder Kreditkarte auch fürs bezahlen an der Klärbar nicht vergessen. Dicke Sachen tragen\, wir pusten alles was geht an Warmluft hinein\, aber im Zweifel besser ne stylische Skimützen mitbringen… aber bitte keine Skischuhe (-;. \n\n\n\n\n\n\n\n\n\n\n\n\n\n\n\n\n\n\n\n\n\nÜbrigens: \n\n\n\nWer sich das Klärwerk „nur mal aus Langweile“ anschauen will – kommt lieber zu ner Führung\, Es wird getanzt. Denn nach dem Weihnachtsmenü muss der Speck geschüttelt werden…
URL:https://kalender.klaerwerk-krefeld.org/veranstaltung/klaer-your-head-off-and-dance-3-0/
LOCATION:Nordrhein-Westfalen
CATEGORIES:Tanzabend
ATTACH;FMTTYPE=image/jpeg:https://kalender.klaerwerk-krefeld.org/wp-content/uploads/Bild.jpg
END:VEVENT
BEGIN:VEVENT
DTSTART;TZID=Europe/Berlin:20241219T170000
DTEND;TZID=Europe/Berlin:20241219T183000
DTSTAMP:20260421T191008
CREATED:20241117T085251Z
LAST-MODIFIED:20241207T091907Z
UID:10000303-1734627600-1734633000@kalender.klaerwerk-krefeld.org
SUMMARY:Führung durch das historische Klärwerk mit Christoph
DESCRIPTION:Das Klärwerk Krefeld wurde 1909 eingeweiht. Es ist ein denkmalgeschütztes Jugendstilgebäude von besonderem Charme. Der Uerdinger Verein zum Erhalt des historischen Klärwerks Krefeld e.V. setzt sich dafür ein\, dass sowohl das denkmalgeschützte Gebäude wiederhergestellt wird\, als auch die Geschichte des Klärwerkes bewahrt wird. Die Führung durch das historische Gebäude geht auf die Geschichte der Abwasserreinigung\, das Hygieneverständnis im 19. Jhd. und die Baukultur der Stadt ein. Auch die aktuellen Herausforderungen im nachhaltigen Umgang mit der Ressource Wasser werden thematisiert. \n\n\n\nDie Veranstaltung ist kostenfrei\, Spenden an den Verein zum Erhalt des historischen Klärwerks Krefeld Uerdingen e.V. sind willkommen.
URL:https://kalender.klaerwerk-krefeld.org/veranstaltung/fuehrung-durch-das-historische-klaerwerk-11/
LOCATION:Industriedenkmal historisches Klärwerk\, Rundweg 20-22\, Krefeld Uerdingen\, Nordrhein-Westfalen\, 47829\, Deutschland
CATEGORIES:Führungen durch das Klärwerk
ATTACH;FMTTYPE=image/jpeg:https://kalender.klaerwerk-krefeld.org/wp-content/uploads/fuehrungen-2048x1494-1-1.jpeg
ORGANIZER;CN="F%C3%B6rderverein des historischen Kl%C3%A4rwerks Krefeld  e.V.":MAILTO:info@klaerwerk-krefeld.org
END:VEVENT
BEGIN:VEVENT
DTSTART;TZID=Europe/Berlin:20240523T180000
DTEND;TZID=Europe/Berlin:20240523T193000
DTSTAMP:20260421T191008
CREATED:20231004T084455Z
LAST-MODIFIED:20231004T104836Z
UID:10000098-1716487200-1716492600@kalender.klaerwerk-krefeld.org
SUMMARY:Führung durch das historische Klärwerk
DESCRIPTION:Das Klärwerk Krefeld wurde 1909 eingeweiht. Es ist ein denkmalgeschütztes Jugendstilgebäude von besonderem Charme. Der Uerdinger Verein zum Erhalt des historischen Klärwerks Krefeld e.V. setzt sich dafür ein\, dass sowohl das denkmalgeschützte Gebäude wiederhergestellt wird\, als auch die Geschichte des Klärwerkes bewahrt wird. Die Führung durch das historische Gebäude geht auf die Geschichte der Abwasserreinigung\, das Hygieneverständnis im 19. Jhd. und die Baukultur der Stadt ein. Auch die aktuellen Herausforderungen im nachhaltigen Umgang mit der Ressource Wasser (Ziele der UN Agenda 2030) werden thematisiert.\nDie Veranstaltung ist kostenfrei\, Spenden an den Verein zum Erhalt des historischen Klärwerks Krefeld Uerdingen e.V. sind willkommen. \nBitte diese Führung kostenlos bei der VHS Krefeld reservieren unter: \nFührung reservieren bei der VHS Krefeld
URL:https://kalender.klaerwerk-krefeld.org/veranstaltung/fuehrung-durch-das-historische-klaerwerk-vhs1/2024-05-23/
LOCATION:Industriedenkmal historisches Klärwerk\, Rundweg 20-22\, Krefeld Uerdingen\, Nordrhein-Westfalen\, 47829\, Deutschland
CATEGORIES:Führungen durch das Klärwerk
ATTACH;FMTTYPE=image/jpeg:https://kalender.klaerwerk-krefeld.org/wp-content/uploads/fuehrungen-2048x1494-1.jpeg
END:VEVENT
BEGIN:VEVENT
DTSTART;TZID=Europe/Berlin:20240425T180000
DTEND;TZID=Europe/Berlin:20240425T193000
DTSTAMP:20260421T191008
CREATED:20231004T084455Z
LAST-MODIFIED:20231004T104836Z
UID:10000097-1714068000-1714073400@kalender.klaerwerk-krefeld.org
SUMMARY:Führung durch das historische Klärwerk
DESCRIPTION:Das Klärwerk Krefeld wurde 1909 eingeweiht. Es ist ein denkmalgeschütztes Jugendstilgebäude von besonderem Charme. Der Uerdinger Verein zum Erhalt des historischen Klärwerks Krefeld e.V. setzt sich dafür ein\, dass sowohl das denkmalgeschützte Gebäude wiederhergestellt wird\, als auch die Geschichte des Klärwerkes bewahrt wird. Die Führung durch das historische Gebäude geht auf die Geschichte der Abwasserreinigung\, das Hygieneverständnis im 19. Jhd. und die Baukultur der Stadt ein. Auch die aktuellen Herausforderungen im nachhaltigen Umgang mit der Ressource Wasser (Ziele der UN Agenda 2030) werden thematisiert.\nDie Veranstaltung ist kostenfrei\, Spenden an den Verein zum Erhalt des historischen Klärwerks Krefeld Uerdingen e.V. sind willkommen. \nBitte diese Führung kostenlos bei der VHS Krefeld reservieren unter: \nFührung reservieren bei der VHS Krefeld
URL:https://kalender.klaerwerk-krefeld.org/veranstaltung/fuehrung-durch-das-historische-klaerwerk-vhs1/2024-04-25/
LOCATION:Industriedenkmal historisches Klärwerk\, Rundweg 20-22\, Krefeld Uerdingen\, Nordrhein-Westfalen\, 47829\, Deutschland
CATEGORIES:Führungen durch das Klärwerk
ATTACH;FMTTYPE=image/jpeg:https://kalender.klaerwerk-krefeld.org/wp-content/uploads/fuehrungen-2048x1494-1.jpeg
END:VEVENT
BEGIN:VEVENT
DTSTART;TZID=Europe/Berlin:20240328T180000
DTEND;TZID=Europe/Berlin:20240328T193000
DTSTAMP:20260421T191008
CREATED:20231004T084455Z
LAST-MODIFIED:20231004T104836Z
UID:10000102-1711648800-1711654200@kalender.klaerwerk-krefeld.org
SUMMARY:Führung durch das historische Klärwerk
DESCRIPTION:Das Klärwerk Krefeld wurde 1909 eingeweiht. Es ist ein denkmalgeschütztes Jugendstilgebäude von besonderem Charme. Der Uerdinger Verein zum Erhalt des historischen Klärwerks Krefeld e.V. setzt sich dafür ein\, dass sowohl das denkmalgeschützte Gebäude wiederhergestellt wird\, als auch die Geschichte des Klärwerkes bewahrt wird. Die Führung durch das historische Gebäude geht auf die Geschichte der Abwasserreinigung\, das Hygieneverständnis im 19. Jhd. und die Baukultur der Stadt ein. Auch die aktuellen Herausforderungen im nachhaltigen Umgang mit der Ressource Wasser (Ziele der UN Agenda 2030) werden thematisiert.\nDie Veranstaltung ist kostenfrei\, Spenden an den Verein zum Erhalt des historischen Klärwerks Krefeld Uerdingen e.V. sind willkommen. \nBitte diese Führung kostenlos bei der VHS Krefeld reservieren unter: \nFührung reservieren bei der VHS Krefeld
URL:https://kalender.klaerwerk-krefeld.org/veranstaltung/fuehrung-durch-das-historische-klaerwerk-vhs1/2024-03-28/
LOCATION:Industriedenkmal historisches Klärwerk\, Rundweg 20-22\, Krefeld Uerdingen\, Nordrhein-Westfalen\, 47829\, Deutschland
CATEGORIES:Führungen durch das Klärwerk
ATTACH;FMTTYPE=image/jpeg:https://kalender.klaerwerk-krefeld.org/wp-content/uploads/fuehrungen-2048x1494-1.jpeg
END:VEVENT
BEGIN:VEVENT
DTSTART;TZID=Europe/Berlin:20240229T180000
DTEND;TZID=Europe/Berlin:20240229T193000
DTSTAMP:20260421T191008
CREATED:20231004T084455Z
LAST-MODIFIED:20231004T104836Z
UID:10000095-1709229600-1709235000@kalender.klaerwerk-krefeld.org
SUMMARY:Führung durch das historische Klärwerk
DESCRIPTION:Das Klärwerk Krefeld wurde 1909 eingeweiht. Es ist ein denkmalgeschütztes Jugendstilgebäude von besonderem Charme. Der Uerdinger Verein zum Erhalt des historischen Klärwerks Krefeld e.V. setzt sich dafür ein\, dass sowohl das denkmalgeschützte Gebäude wiederhergestellt wird\, als auch die Geschichte des Klärwerkes bewahrt wird. Die Führung durch das historische Gebäude geht auf die Geschichte der Abwasserreinigung\, das Hygieneverständnis im 19. Jhd. und die Baukultur der Stadt ein. Auch die aktuellen Herausforderungen im nachhaltigen Umgang mit der Ressource Wasser (Ziele der UN Agenda 2030) werden thematisiert.\nDie Veranstaltung ist kostenfrei\, Spenden an den Verein zum Erhalt des historischen Klärwerks Krefeld Uerdingen e.V. sind willkommen. \nBitte diese Führung kostenlos bei der VHS Krefeld reservieren unter: \nFührung reservieren bei der VHS Krefeld
URL:https://kalender.klaerwerk-krefeld.org/veranstaltung/fuehrung-durch-das-historische-klaerwerk-vhs1/2024-02-29/
LOCATION:Industriedenkmal historisches Klärwerk\, Rundweg 20-22\, Krefeld Uerdingen\, Nordrhein-Westfalen\, 47829\, Deutschland
CATEGORIES:Führungen durch das Klärwerk
ATTACH;FMTTYPE=image/jpeg:https://kalender.klaerwerk-krefeld.org/wp-content/uploads/fuehrungen-2048x1494-1.jpeg
END:VEVENT
BEGIN:VEVENT
DTSTART;TZID=Europe/Berlin:20230627T180000
DTEND;TZID=Europe/Berlin:20230627T193000
DTSTAMP:20260421T191008
CREATED:20231004T084455Z
LAST-MODIFIED:20231004T104836Z
UID:10000094-1687888800-1687894200@kalender.klaerwerk-krefeld.org
SUMMARY:Führung durch das historische Klärwerk
DESCRIPTION:Das Klärwerk Krefeld wurde 1909 eingeweiht. Es ist ein denkmalgeschütztes Jugendstilgebäude von besonderem Charme. Der Uerdinger Verein zum Erhalt des historischen Klärwerks Krefeld e.V. setzt sich dafür ein\, dass sowohl das denkmalgeschützte Gebäude wiederhergestellt wird\, als auch die Geschichte des Klärwerkes bewahrt wird. Die Führung durch das historische Gebäude geht auf die Geschichte der Abwasserreinigung\, das Hygieneverständnis im 19. Jhd. und die Baukultur der Stadt ein. Auch die aktuellen Herausforderungen im nachhaltigen Umgang mit der Ressource Wasser (Ziele der UN Agenda 2030) werden thematisiert.\nDie Veranstaltung ist kostenfrei\, Spenden an den Verein zum Erhalt des historischen Klärwerks Krefeld Uerdingen e.V. sind willkommen. \nBitte diese Führung kostenlos bei der VHS Krefeld reservieren unter: \nFührung reservieren bei der VHS Krefeld
URL:https://kalender.klaerwerk-krefeld.org/veranstaltung/fuehrung-durch-das-historische-klaerwerk-vhs1/2023-06-27/
LOCATION:Industriedenkmal historisches Klärwerk\, Rundweg 20-22\, Krefeld Uerdingen\, Nordrhein-Westfalen\, 47829\, Deutschland
CATEGORIES:Führungen durch das Klärwerk
ATTACH;FMTTYPE=image/jpeg:https://kalender.klaerwerk-krefeld.org/wp-content/uploads/fuehrungen-2048x1494-1.jpeg
END:VEVENT
END:VCALENDAR